BEGIN:VCALENDAR
VERSION:2.0
PRODID:-//hacksw/handcal//NONSGML v1.0//EN
BEGIN:VEVENT
SUMMARY:Fete de l'ete
UID:77cb3e4a-d113-4d72-b36e-b52e2b776af8
DTSTART:20260627T140000Z
DTEND:20260628T020000Z
LOCATION:Gymnase de VERNEUIL/VIENNE Gymnase Municipal 87430 VERNEUIL SUR VIENNE
CATEGORIES:Sportif
STATUS:
DESCRIPTION:<h2><strong><span style="color:#ff00cc;">SAMEDI 27
 JUIN</span></strong></h2>
 
 <h3>de <strong>16h jusqu'au bout de la
 Nuit</strong></h3>
 
 <h3>au <strong>Gymnase de
 VERNEUIL</strong></h3>
 
 <h2><span style="color:#ff00cc;"><strong>FETE
 DE L'ETE du VSGHC</strong></span></h2>
 
 <h3>Le programme sera
 communique tres prochainement</h3>
 
 <h3>De <span
 style="color:#ff00cc;">GROSSES NOUVEAUTES</span> devraient faire leur
 apparation cette annee!</h3>
URL;VALUE=URI:https://www.verneuilstgencehandballclub.com/evenements/2026/06/27/fete-de-lete-2439794
END:VEVENT
END:VCALENDAR
