BEGIN:VCALENDAR
VERSION:2.0
PRODID:-//hacksw/handcal//NONSGML v1.0//EN
BEGIN:VEVENT
SUMMARY:PLATEAU -7 / -9
UID:fe72da7d-df6f-4e5a-a815-3be0a8dca9dc
DTSTART:20260530T120000Z
DTEND:20260530T140000Z
LOCATION:Localisation Rue Jules Ferry 87114 Panazol
CATEGORIES:Sportif
STATUS:
DESCRIPTION:<p><span style="font-size:20px;"><strong>PLATEAU -7 /
 -9 </strong></span></p>
 
 <p><span style="font-size:22px;">de 14H a
 16H ==> <strong><span style="color:#c0392b;">RDV a
 13h45</span></strong></span></p>
 
 <p><span style="font-size:22px;">a
 l'espace Bernard Delage </span></p>
 
 <p><span
 style="font-size:22px;">Rue Jules Ferry - 87114 PANAZOL</span></p>
URL;VALUE=URI:https://www.verneuilstgencehandballclub.com/evenements/2026/05/30/plateau-7-9-2440102
END:VEVENT
END:VCALENDAR
