BEGIN:VCALENDAR
VERSION:2.0
PRODID:-//hacksw/handcal//NONSGML v1.0//EN
BEGIN:VEVENT
SUMMARY:Match -13 masculin equipe (2).
UID:d34ee15f-6348-4f57-8b78-f06e363e7e9f
DTSTART:20260503T113000Z
DTEND:20260503T130000Z
LOCATION:Gymnase de VERNEUIL/VIENNE Gymnase Municipal 87430 VERNEUIL SUR VIENNE
CATEGORIES:Sportif
STATUS:
DESCRIPTION:<p><font color="#c0392b"><span
 style="font-size:20px;"><b>Match -13 masculin
 (2)</b></span></font></p>
 
 <p><span style="color:#000000;">VSGHC/
 Tulle</span></p>
 
 <p><span style="color:#000000;">Rendez-vous a
 verneuil 12h10</span></p>
 
 <p> </p>
URL;VALUE=URI:https://www.verneuilstgencehandballclub.com/evenements/2026/05/03/match-13-masculin-equipe-2-2422409
END:VEVENT
END:VCALENDAR
