BEGIN:VCALENDAR
VERSION:2.0
PRODID:-//hacksw/handcal//NONSGML v1.0//EN
BEGIN:VEVENT
SUMMARY:Match -13 masculin equipe (2).
UID:5a609bb1-d373-4598-a6da-1ef1dbbf24a7
DTSTART:20260502T113000Z
DTEND:20260502T130000Z
LOCATION:Gymnase de VERNEUIL/VIENNE Gymnase Municipal 87430 VERNEUIL SUR VIENNE
CATEGORIES:Sportif
STATUS:
DESCRIPTION:<p><font color="#c0392b"><span
 style="font-size:20px;"><b>Match -13 masculin
 (2)</b></span></font></p>
 
 <p><span style="color:#000000;">VSGHC/
 Tulle</span></p>
 
 <p><span style="color:#000000;">Rendez-vous a
 verneuil 12h10</span></p>
 
 <p> </p>
URL;VALUE=URI:https://www.verneuilstgencehandballclub.com/evenements/2026/05/02/match-13-masculin-equipe-2-2422410
END:VEVENT
END:VCALENDAR
