BEGIN:VCALENDAR
VERSION:2.0
PRODID:-//hacksw/handcal//NONSGML v1.0//EN
BEGIN:VEVENT
SUMMARY:entrainement -15 / -18 garcons
UID:8ca39542-6720-43fc-a9c3-5ccb382f801f
DTSTART:20260430T170000Z
DTEND:20260430T184500Z
LOCATION:Gymnase de VERNEUIL/VIENNE Gymnase Municipal 87430 VERNEUIL SUR VIENNE
CATEGORIES:Entrainement
STATUS:
DESCRIPTION:<p style="text-align:center;">Entrainement commun -15 /
 -18 garcons.</p><div style="text-align:center;"><span
 style="background-color:rgb(233,30,99);"><b><font
 color="#000000">Rendez</font><font color="#000000"> vous 18h50 -
 debut entrainement 19h</font></b></span></div>
URL;VALUE=URI:https://www.verneuilstgencehandballclub.com/evenements/2026/04/30/entrainement-15-18-garcons-2442043
END:VEVENT
END:VCALENDAR
