BEGIN:VCALENDAR
VERSION:2.0
PRODID:-//hacksw/handcal//NONSGML v1.0//EN
BEGIN:VEVENT
SUMMARY:Match -15 Masculins (2)
UID:7241f192-1ffa-4808-89de-a56588ff7890
DTSTART:20260425T143000Z
DTEND:20260425T153000Z
LOCATION:Localisation   
CATEGORIES:Sportif
STATUS:
DESCRIPTION:<p><span style="color:#c0392b;"><strong><span
 style="font-size:18px;">Samedi 25
 avril </span></strong></span></p>
 
 <p><strong><span
 style="font-size:14px;">Match -15 Masculins
 (2)</span></strong></p>
 
 <p><span style="font-size:14px;">Verneuil
 Saint Gence / Gueret </span></p>
 
 <p><span
 style="color:#c0392b;"><span style="font-size:16px;">Rdv a 15h30 au
 gymnase de Verneuil </span></span></p>
 
 <p><span
 style="color:#c0392b;"><span style="font-size:16px;">Debut du match a
 16h30 </span></span></p>
URL;VALUE=URI:https://www.verneuilstgencehandballclub.com/evenements/2026/04/25/match-15-masculins-2-2438951
END:VEVENT
END:VCALENDAR
