BEGIN:VCALENDAR
VERSION:2.0
PRODID:-//hacksw/handcal//NONSGML v1.0//EN
BEGIN:VEVENT
SUMMARY:Match - 15 masculins (1)
UID:540c5cd5-8fd8-4e93-a82b-c80ee2a0ff54
DTSTART:20260425T160000Z
DTEND:20260425T170000Z
LOCATION:Localisation   
CATEGORIES:Sportif
STATUS:
DESCRIPTION:<p><span style="font-size:18px;"><span
 style="color:#c0392b;"><strong>Samedi 25
 avril </strong></span></span></p>
 
 <p><span
 style="font-size:14px;"><strong>Match - 15 masculins
 (1)</strong></span></p>
 
 <p><span style="font-size:14px;">Verneuil
 Saint Gence / Limoges Hand </span></p>
 
 <p><span
 style="color:#c0392b;"><span style="font-size:16px;">Rdv a 17h au
 gymnase de Verneuil </span></span></p>
 
 <p><span
 style="color:#c0392b;"><span style="font-size:16px;">Debut du match a
 18h </span></span></p>
URL;VALUE=URI:https://www.verneuilstgencehandballclub.com/evenements/2026/04/25/match-15-masculins-1-2438950
END:VEVENT
END:VCALENDAR
