BEGIN:VCALENDAR
VERSION:2.0
PRODID:-//hacksw/handcal//NONSGML v1.0//EN
BEGIN:VEVENT
SUMMARY:Match -13 masculin equipe (2).
UID:5f1784ae-e90c-46c6-8714-9db72db147a1
DTSTART:20260425T113000Z
DTEND:20260425T130000Z
LOCATION:Gymnase de VERNEUIL/VIENNE Gymnase Municipal 87430 VERNEUIL SUR VIENNE
CATEGORIES:Sportif
STATUS:
DESCRIPTION:<p><font color="#c0392b"><span
 style="font-size:20px;"><b>Match -13 masculin
 (2)</b></span></font></p>
 
 <p><span style="color:#000000;">VSGHC/
 Tulle</span></p>
 
 <p><span style="color:#000000;">Rendez-vous a
 verneuil 12h10</span></p>
 
 <p> </p>
URL;VALUE=URI:https://www.verneuilstgencehandballclub.com/evenements/2026/04/25/match-13-masculin-equipe-2-2422408
END:VEVENT
END:VCALENDAR
