BEGIN:VCALENDAR
VERSION:2.0
PRODID:-//hacksw/handcal//NONSGML v1.0//EN
BEGIN:VEVENT
SUMMARY:auberge espagnole (post match -15)
UID:18e860b8-f441-46a4-b70c-2a55d63f2dd1
DTSTART:20260425T170000Z
DTEND:20260425T210000Z
LOCATION:Localisation   
CATEGORIES:Manifestation
STATUS:
DESCRIPTION:<p style="text-align:center;"><font
 color="#9c27b0"><b>Bonsoir a tous, </b></font></p><p
 style="text-align:center;"><font color="#9c27b0"><b>samedi apres le
 match de nos 2 equipes -15, on vous propose de poursuivre la soiree
 en mode "auberge espagnole" au gymnase.</b></font></p><p
 style="text-align:center;"><font color="#9c27b0"><b>Chacun ramene du
 sale / sucre / boissons, et passer un moment sympa tous
 ensemble.</b></font></p><p style="text-align:center;"><font
 color="#9c27b0"><b>Les -18filles jouent a 19h30,  nos encouragements
 seront les bienvenus 😊</b></font></p><p
 style="text-align:center;"><font color="#9c27b0"><b>A
 samedi </b></font></p>
URL;VALUE=URI:https://www.verneuilstgencehandballclub.com/evenements/2026/04/25/auberge-espagnole-post-match-15-2443412
END:VEVENT
END:VCALENDAR
