BEGIN:VCALENDAR
VERSION:2.0
PRODID:-//hacksw/handcal//NONSGML v1.0//EN
BEGIN:VEVENT
SUMMARY:match 18 g contre panazol
UID:f70902a9-9298-49b6-80e6-c3d18f261cc6
DTSTART:20260419T124500Z
DTEND:20260419T160000Z
LOCATION:Gymnase de VERNEUIL/VIENNE Gymnase Municipal 87430 VERNEUIL SUR VIENNE
CATEGORIES:Sportif
STATUS:
DESCRIPTION:Match
URL;VALUE=URI:https://www.verneuilstgencehandballclub.com/evenements/2026/04/19/match-18-g-contre-panazol-2442173
END:VEVENT
END:VCALENDAR
