BEGIN:VCALENDAR
VERSION:2.0
PRODID:-//hacksw/handcal//NONSGML v1.0//EN
BEGIN:VEVENT
SUMMARY:Arbitrage -11 Ans
UID:ee7b7762-2a66-4a85-a64d-e41b2ed51718
DTSTART:20260419T074500Z
DTEND:20260419T220000Z
LOCATION:Gymnase de St GENCE Gymnase de Saint-Gence, Allee des Ribieres 87510 SAINT GENCE
CATEGORIES:Sportif
STATUS:
URL;VALUE=URI:https://www.verneuilstgencehandballclub.com/evenements/2026/04/19/arbitrage-11-ans-2442645
END:VEVENT
END:VCALENDAR
