BEGIN:VCALENDAR
VERSION:2.0
PRODID:-//hacksw/handcal//NONSGML v1.0//EN
BEGIN:VEVENT
SUMMARY:Match -13(1) Brive-vsghc
UID:8a8ffe57-dbd3-4a1d-ab1e-f058d8ccc064
DTSTART:20260418T151500Z
DTEND:20260418T173000Z
LOCATION:Localisation 4 impasse guynemer 19100 brive la guaillarde
CATEGORIES:Sportif
STATUS:
URL;VALUE=URI:https://www.verneuilstgencehandballclub.com/evenements/2026/04/18/match-131-brive-vsghc-2441633
END:VEVENT
END:VCALENDAR
