BEGIN:VCALENDAR
VERSION:2.0
PRODID:-//hacksw/handcal//NONSGML v1.0//EN
BEGIN:VEVENT
SUMMARY:Match -13 masculin equipe (2).
UID:cb9991b7-587d-4378-8704-c1fb40eb6bad
DTSTART:20260418T133000Z
DTEND:20260418T153000Z
LOCATION:Localisation gymnase lavoisier 19100 Brive la gaillarde
CATEGORIES:Sportif
STATUS:
DESCRIPTION:<p><font color="#c0392b"><span
 style="font-size:20px;"><b>Match -13 masculin
 (2)</b></span></font></p><p>Brive / vsghc</p><p><span
 style="color:#000000;">Rendez-vous 15h30 sur place</span></p><p>debut
 du match a 16h15</p><p> </p>
URL;VALUE=URI:https://www.verneuilstgencehandballclub.com/evenements/2026/04/18/match-13-masculin-equipe-2-2422406
END:VEVENT
END:VCALENDAR
