BEGIN:VCALENDAR
VERSION:2.0
PRODID:-//hacksw/handcal//NONSGML v1.0//EN
BEGIN:VEVENT
SUMMARY:Entrainement -11 Ans
UID:acc52266-7fbd-4a7f-8eb2-3c604ebe529f
DTSTART:20260418T114500Z
DTEND:20260418T140000Z
LOCATION:Localisation Gymnase sainte claire  limoges
CATEGORIES:Sportif
STATUS:
DESCRIPTION:<p><strong>Entrainement Support
 Formation</strong></p>
 
 <p>Le Comite Departemental de la Haute-Vienne
 organise une seance pedagogique dans le cadre de la formation
 d’entraineur. Ils nous ont contactes afin de disposer de joueurs de
 moins de 11 ans pour servir de support pedagogique lors de cette
 session.</p>
 
 <p>Comme je l’ai explique a vos enfants hier, il
 n’y aura pas de detection a cette occasion (ils sont encore trop
 jeunes). En revanche, il est important qu’ils donnent le meilleur
 d’eux-memes et qu’ils soient attentifs aux consignes, afin de ne
 pas se faire remarquer negativement.</p>
 
 <p>📍 <strong>Rendez-vous
 a 13h45</strong><br>
 📍 <strong>Gymnase de Sainte-Claire a
 Limoges</strong></p>
URL;VALUE=URI:https://www.verneuilstgencehandballclub.com/evenements/2026/04/18/entrainement-11-ans-2442167
END:VEVENT
END:VCALENDAR
