BEGIN:VCALENDAR
VERSION:2.0
PRODID:-//hacksw/handcal//NONSGML v1.0//EN
BEGIN:VEVENT
SUMMARY:! MODIF HORAIRES!  ntrainement -18 Ans Feminines
UID:3aab4a37-6504-41fb-ba2e-8dd1122b4a7a
DTSTART:20260417T174500Z
DTEND:20260417T200000Z
LOCATION:Gymnase de VERNEUIL/VIENNE Gymnase Municipal 87430 VERNEUIL SUR VIENNE
CATEGORIES:Sportif
STATUS:
DESCRIPTION:<h2><span style="color:#c0392b;"><strong>! MODIF
 HORAIRES!</strong></span></h2>
 
 <h2><span
 style="color:#c0392b;"><strong>RDV A 19H45 AU
 Gymnase</strong></span></h2>
 
 <p> </p>
 
 <p>Entrainement Exceptionnel
 100 % Feminin </p>
 
 <p>Nous finirons l'entrainement avec un
 apertitif, chacun amene un petit truc a grignoter</p>
URL;VALUE=URI:https://www.verneuilstgencehandballclub.com/evenements/2026/04/17/modif-horaires-ntrainement-18-ans-feminines-2441580
END:VEVENT
END:VCALENDAR
