BEGIN:VCALENDAR
VERSION:2.0
PRODID:-//hacksw/handcal//NONSGML v1.0//EN
BEGIN:VEVENT
SUMMARY:INFO !! modification horaires stage -15 / -18 masculins - debut 17h30 / 19h30
UID:bcf1792e-b8b3-48e1-a6c3-9523858ea81b
DTSTART:20260417T153000Z
DTEND:20260417T173000Z
LOCATION:Gymnase de VERNEUIL/VIENNE Gymnase Municipal 87430 VERNEUIL SUR VIENNE
CATEGORIES:Entrainement
STATUS:
DESCRIPTION:<p>Changement horaires</p><p><br></p><p>Entrainement de
 17h30 a 19h30</p>
URL;VALUE=URI:https://www.verneuilstgencehandballclub.com/evenements/2026/04/17/info-modification-horaires-stage-15-18-masculins-debut-17h30-19h30-2438267
END:VEVENT
END:VCALENDAR
