BEGIN:VCALENDAR
VERSION:2.0
PRODID:-//hacksw/handcal//NONSGML v1.0//EN
BEGIN:VEVENT
SUMMARY:stage -15 / -18 masculins (entrainement 2)
UID:f68ef456-d192-4f67-a029-f55b5d01ba3f
DTSTART:20260416T153000Z
DTEND:20260416T173000Z
LOCATION:Gymnase de VERNEUIL/VIENNE Gymnase Municipal 87430 VERNEUIL SUR VIENNE
CATEGORIES:Sportif
STATUS:
DESCRIPTION:<p><b style="background-color:rgb(255,235,59);"><font
 color="#9c27b0">Entrainement -15 / -18 garcons
 (obligatoire)</font></b></p><p><b
 style="background-color:rgb(255,235,59);"><font
 color="#9c27b0">Gymnase de Verneuil</font></b></p><p><b
 style="background-color:rgb(255,235,59);"><font color="#9c27b0">RDV
 17h30</font></b></p>
URL;VALUE=URI:https://www.verneuilstgencehandballclub.com/evenements/2026/04/16/stage-15-18-masculins-entrainement-2-2438266
END:VEVENT
END:VCALENDAR
