BEGIN:VCALENDAR
VERSION:2.0
PRODID:-//hacksw/handcal//NONSGML v1.0//EN
BEGIN:VEVENT
SUMMARY:Entrainement -11 Ans Masculins
UID:79ffee31-5ed7-414d-84f4-5dfccac06733
DTSTART:20260416T173000Z
DTEND:20260416T184500Z
LOCATION:Gymnase de VERNEUIL/VIENNE Gymnase Municipal 87430 VERNEUIL SUR VIENNE
CATEGORIES:Sportif
STATUS:
DESCRIPTION:<p>ENTRAINEMENT
 EXCEPTIONNEL</p>
 
 <p>19h30/20h45</p>
 
 <p>Au gymnase de
 VERNEUIL</p>
 
 <p>-11 ans Equipe 1</p>
URL;VALUE=URI:https://www.verneuilstgencehandballclub.com/evenements/2026/04/16/entrainement-11-ans-masculins-2441579
END:VEVENT
END:VCALENDAR
