BEGIN:VCALENDAR
VERSION:2.0
PRODID:-//hacksw/handcal//NONSGML v1.0//EN
BEGIN:VEVENT
SUMMARY:stage -15 / -18 masculins (entrainement 1)
UID:0fe7c74a-12da-4938-a90e-a045ee58ac39
DTSTART:20260414T153000Z
DTEND:20260414T173000Z
LOCATION:Gymnase de St GENCE Gymnase de Saint-Gence, Allee des Ribieres 87510 SAINT GENCE
CATEGORIES:Entrainement
STATUS:
DESCRIPTION:<p><b style="background-color:rgb(255,235,59);"><font
 color="#9c27b0">Entrainement -15 / -18 garcons
 (obligatoire)</font></b></p><p><b
 style="background-color:rgb(255,235,59);"><font
 color="#9c27b0">Gymnase de Saint Gence</font></b></p><p><b
 style="background-color:rgb(255,235,59);"><font color="#9c27b0">RDV
 17h30</font></b></p>
URL;VALUE=URI:https://www.verneuilstgencehandballclub.com/evenements/2026/04/14/stage-15-18-masculins-entrainement-1-2438256
END:VEVENT
END:VCALENDAR
