BEGIN:VCALENDAR
VERSION:2.0
PRODID:-//hacksw/handcal//NONSGML v1.0//EN
BEGIN:VEVENT
SUMMARY:entrainement -18  / -15 garcons (18h/20h)
UID:62e01d37-47df-42e6-8ec0-206c68a3662c
DTSTART:20260410T160000Z
DTEND:20260410T180000Z
LOCATION:Gymnase de VERNEUIL/VIENNE Gymnase Municipal 87430 VERNEUIL SUR VIENNE
CATEGORIES:Sportif
STATUS:
URL;VALUE=URI:https://www.verneuilstgencehandballclub.com/evenements/2026/04/10/entrainement-18-15-garcons-18h20h-2372194
END:VEVENT
END:VCALENDAR
