BEGIN:VCALENDAR
VERSION:2.0
PRODID:-//hacksw/handcal//NONSGML v1.0//EN
BEGIN:VEVENT
SUMMARY:entrainement -13 / -15 / -18 masculins
UID:75641d27-b878-46ea-b8c9-8fefbe1b687c
DTSTART:20260402T170000Z
DTEND:20260402T184500Z
LOCATION:Gymnase de VERNEUIL/VIENNE Gymnase Municipal 87430 VERNEUIL SUR VIENNE
CATEGORIES:Entrainement
STATUS:
DESCRIPTION:<p style="text-align:center;">Entrainement commun -13 /
 -15 / -18 garcons.</p><div style="text-align:center;"><span
 style="background-color:rgb(233,30,99);"><b><font
 color="#000000">Rendez</font><font color="#000000"> vous 18h50 -
 debut entrainement 19h</font></b></span></div>
URL;VALUE=URI:https://www.verneuilstgencehandballclub.com/evenements/2026/04/02/entrainement-13-15-18-masculins-2435027
END:VEVENT
END:VCALENDAR
