BEGIN:VCALENDAR
VERSION:2.0
PRODID:-//hacksw/handcal//NONSGML v1.0//EN
BEGIN:VEVENT
SUMMARY:Match -15 Masculins (2) - domicile
UID:3ee29bca-ac7b-4fa2-877b-960ef5849bac
DTSTART:20260329T143000Z
DTEND:20260329T153000Z
LOCATION:Gymnase de VERNEUIL/VIENNE Gymnase Municipal 87430 VERNEUIL SUR VIENNE
CATEGORIES:Sportif
STATUS:
DESCRIPTION:<p style="text-align:center;"><font size="5"
 style="font-weight:bold;"><font
 color="#4caf50">MATCH</font></font><font color="#f3e5f5"
 size="4"> (domicile)</font></p><p
 style="text-align:center;"><b><font color="#9c27b0"
 size="5"> VSGHC(2) / ALLASSAC</font></b></p><p
 style="text-align:center;"><b><font color="#9c27b0"
 size="5"><br></font></b></p><p style="text-align:center;"><font
 size="5">Rendez-vous a 15h30</font></p><p
 style="text-align:center;"><b><font color="#8bc34a" size="5">Debut du
 Match a 16h30</font></b></p><p style="text-align:center;"><br></p>
URL;VALUE=URI:https://www.verneuilstgencehandballclub.com/evenements/2026/03/29/match-15-masculins-2-domicile-2419117
END:VEVENT
END:VCALENDAR
