BEGIN:VCALENDAR
VERSION:2.0
PRODID:-//hacksw/handcal//NONSGML v1.0//EN
BEGIN:VEVENT
SUMMARY:Match -15 masculins (1) - exterieur
UID:2eb95e29-f9ca-4ad9-802f-efbbada709ee
DTSTART:20260329T120000Z
DTEND:20260329T133000Z
LOCATION:Localisation espace Bernard Delage  Panazol
CATEGORIES:Sportif
STATUS:
DESCRIPTION:<p style="text-align:center;"><font size="5"
 style="font-weight:bold;"><font
 color="#4caf50">MATCH</font></font><font color="#f3e5f5"
 size="4"> (exterieur)</font></p><p
 style="text-align:center;"><b><font color="#9c27b0"
 size="5"> PANAZOL</font></b><b><font color="#9c27b0" size="5"> /
 VSGHC(1)</font></b></p><p style="text-align:center;"><b><font
 color="#9c27b0" size="5"><br></font></b></p><p
 style="text-align:center;"><font size="5">Rendez-vous a 13h00
 </font></p><p style="text-align:center;"><font size="5">(gymnase de
 Morpienas)</font></p><p style="text-align:center;"><b><font
 color="#8bc34a" size="5">Debut du Match a 14h00</font></b></p><br
 class="Apple-interchange-newline">
URL;VALUE=URI:https://www.verneuilstgencehandballclub.com/evenements/2026/03/29/match-15-masculins-1-exterieur-2431678
END:VEVENT
END:VCALENDAR
