BEGIN:VCALENDAR
VERSION:2.0
PRODID:-//hacksw/handcal//NONSGML v1.0//EN
BEGIN:VEVENT
SUMMARY:Match -13 masculin equipe (2).
UID:5e4095c0-21d7-4b00-bc4b-3bbc89fa5229
DTSTART:20260329T113000Z
DTEND:20260329T130000Z
LOCATION:Gymnase de VERNEUIL/VIENNE Gymnase Municipal 87430 VERNEUIL SUR VIENNE
CATEGORIES:Sportif
STATUS:
DESCRIPTION:<p><font color="#c0392b"><span
 style="font-size:20px;"><b>Match -13 masculin
 (2)</b></span></font></p>
 
 <p><span style="color:#000000;">VSGHC/St
 junien</span></p>
 
 <p><span style="color:#000000;">Rendez-vous a
 verneuil 13h00</span></p>
 
 <p><span style="color:#c0392b;"><span
 style="font-size:20px;"><em><u><strong>Debut du match a
 13H30</strong></u></em></span></span></p>
URL;VALUE=URI:https://www.verneuilstgencehandballclub.com/evenements/2026/03/29/match-13-masculin-equipe-2-2422405
END:VEVENT
END:VCALENDAR
