BEGIN:VCALENDAR
VERSION:2.0
PRODID:-//hacksw/handcal//NONSGML v1.0//EN
BEGIN:VEVENT
SUMMARY:Arbitrage -15 Ans Masculins
UID:fe5d246a-e861-446e-a5d6-d8865ee5c39b
DTSTART:20260329T143000Z
DTEND:20260329T154500Z
LOCATION:Gymnase de VERNEUIL/VIENNE Gymnase Municipal 87430 VERNEUIL SUR VIENNE
CATEGORIES:Sportif
STATUS:
URL;VALUE=URI:https://www.verneuilstgencehandballclub.com/evenements/2026/03/29/arbitrage-15-ans-masculins-2433304
END:VEVENT
END:VCALENDAR
