BEGIN:VCALENDAR
VERSION:2.0
PRODID:-//hacksw/handcal//NONSGML v1.0//EN
BEGIN:VEVENT
SUMMARY:Arbitrage -13F
UID:4d2e2aae-98c1-44c6-91bd-e17a50d15736
DTSTART:20260329T124500Z
DTEND:20260329T141500Z
LOCATION:Gymnase de VERNEUIL/VIENNE Gymnase Municipal 87430 VERNEUIL SUR VIENNE
CATEGORIES:Sportif
STATUS:
DESCRIPTION:<p>ARBITRAGE MATCH -13 ans feminines</p>
URL;VALUE=URI:https://www.verneuilstgencehandballclub.com/evenements/2026/03/29/arbitrage-13f-2433246
END:VEVENT
END:VCALENDAR
