BEGIN:VCALENDAR
VERSION:2.0
PRODID:-//hacksw/handcal//NONSGML v1.0//EN
BEGIN:VEVENT
SUMMARY:Arbitrage -13 Ans Masculins
UID:81baca3b-afb0-48a1-a7e2-102bed436d5d
DTSTART:20260329T111500Z
DTEND:20260329T131500Z
LOCATION:Gymnase de VERNEUIL/VIENNE Gymnase Municipal 87430 VERNEUIL SUR VIENNE
CATEGORIES:Sportif
STATUS:
DESCRIPTION:<p>Arbitrage -13 Ans Masculins</p>
URL;VALUE=URI:https://www.verneuilstgencehandballclub.com/evenements/2026/03/29/arbitrage-13-ans-masculins-2433251
END:VEVENT
END:VCALENDAR
