BEGIN:VCALENDAR
VERSION:2.0
PRODID:-//hacksw/handcal//NONSGML v1.0//EN
BEGIN:VEVENT
SUMMARY:Match -13(1) vsghc-abc
UID:f34ff89e-5d60-469b-8dcd-c4456ee3018b
DTSTART:20260314T161500Z
DTEND:20260314T183000Z
LOCATION:Localisation   
CATEGORIES:Sportif
STATUS:
URL;VALUE=URI:https://www.verneuilstgencehandballclub.com/evenements/2026/03/14/match-131-vsghc-abc-2424950
END:VEVENT
END:VCALENDAR
