BEGIN:VCALENDAR
VERSION:2.0
PRODID:-//hacksw/handcal//NONSGML v1.0//EN
BEGIN:VEVENT
SUMMARY:Match -15 Masculins (2)
UID:c8a79969-a4e8-491a-ba1b-cff23424a3d5
DTSTART:20260307T130000Z
DTEND:20260307T140000Z
LOCATION:Localisation Gymnase Marcel Lalu  Isle
CATEGORIES:Sportif
STATUS:
DESCRIPTION:<p style="text-align:center;"><font size="5"
 style="font-weight:bold;"><font
 color="#4caf50">MATCH</font></font><font color="#f3e5f5"
 size="4"> (Exterieur)</font></p><p
 style="text-align:center;"><b><font color="#9c27b0" size="5">JA
 ISLE(2)  / VSGHC(2)</font></b></p><p
 style="text-align:center;"><b><font color="#9c27b0"
 size="5"><br></font></b></p><p style="text-align:center;"><font
 size="5">Rendez-vous a 13h10</font></p><p
 style="text-align:center;"><b><font color="#8bc34a" size="5">Debut du
 Match a 14h</font></b></p>
URL;VALUE=URI:https://www.verneuilstgencehandballclub.com/evenements/2026/03/07/match-15-masculins-2-2419116
END:VEVENT
END:VCALENDAR
